BEGIN:VCALENDAR
VERSION:2.0
PRODID:-//Avrasya Üniversitesi - ECPv6.15.11//NONSGML v1.0//EN
CALSCALE:GREGORIAN
METHOD:PUBLISH
X-WR-CALNAME:Avrasya Üniversitesi
X-ORIGINAL-URL:https://myo.avrasya.edu.tr
X-WR-CALDESC:Avrasya Üniversitesi için etkinlikler
REFRESH-INTERVAL;VALUE=DURATION:PT1H
X-Robots-Tag:noindex
X-PUBLISHED-TTL:PT1H
BEGIN:VTIMEZONE
TZID:Europe/Moscow
BEGIN:STANDARD
TZOFFSETFROM:+0300
TZOFFSETTO:+0300
TZNAME:MSK
DTSTART:20200101T000000
END:STANDARD
END:VTIMEZONE
BEGIN:VEVENT
DTSTART;TZID=Europe/Moscow:20240103T133000
DTEND;TZID=Europe/Moscow:20240103T170000
DTSTAMP:20260421T153230
CREATED:20231229T075104Z
LAST-MODIFIED:20231229T075104Z
UID:8461-1704288600-1704301200@myo.avrasya.edu.tr
SUMMARY:Film Gösterimi (Deniz Modern Külkedisi)
DESCRIPTION:Avrasya Üniversitesi Meslek Yüksekokulu Mimari Restorasyon ve İç Mekan Tasarımı Programı öğrencilerinin Öğr. Gör. İbrahim AKTÜRK eşliğinde mekan ve film konseptiyle üniversitemizde kısa film hazırlamışlardır. Deniz modern külkedisi isimli film gösterimi yeni yılı ilk günlerinde 3 Ocak 2024 tarihinde saat 13.30’da Pelitli Yerleşkesi konferans salonunda gerçekleşecektir.
URL:https://myo.avrasya.edu.tr/event/film-gosterimi-deniz-modern-kulkedisi/
LOCATION:Avrasya Üniversitesi Pelitli Yerleşkesi\, Yalıncak Mahallesi\, Rize Cad. No: 125/1 Ortahisar / Trabzon- TURKEY\, ORTAHİSAR\, TRABZON\, Türkiye
END:VEVENT
BEGIN:VEVENT
DTSTART;VALUE=DATE:20210423
DTEND;VALUE=DATE:20210424
DTSTAMP:20260421T153230
CREATED:20210305T062513Z
LAST-MODIFIED:20210305T062513Z
UID:7835-1619136000-1619222399@myo.avrasya.edu.tr
SUMMARY:1. Ulusal Avrasya Jürili Çevrimiçi Karma Sergi
DESCRIPTION:
URL:https://myo.avrasya.edu.tr/event/1-ulusal-avrasya-jurili-cevrimici-karma-sergi/
LOCATION:Avrasya Üniversitesi Pelitli Yerleşkesi\, Yalıncak Mahallesi\, Rize Cad. No: 125/1 Ortahisar / Trabzon- TURKEY\, ORTAHİSAR\, TRABZON\, Türkiye
END:VEVENT
END:VCALENDAR